BEGIN:VCALENDAR
VERSION:2.0
PRODID:-//jEvents 2.0 for Joomla//EN
CALSCALE:GREGORIAN
METHOD:PUBLISH
BEGIN:VTIMEZONE
TZID:Europe/Berlin
BEGIN:STANDARD
DTSTART:20240226T183000
RDATE:20240331T030000
TZOFFSETFROM:+0200
TZOFFSETTO:+0100
TZNAME:Europe/Berlin CET
END:STANDARD
BEGIN:STANDARD
DTSTART:20241027T020000
RDATE:20250330T030000
TZOFFSETFROM:+0200
TZOFFSETTO:+0100
TZNAME:Europe/Berlin CET
END:STANDARD
BEGIN:STANDARD
DTSTART:20251026T020000
RDATE:20260329T030000
TZOFFSETFROM:+0200
TZOFFSETTO:+0100
TZNAME:Europe/Berlin CET
END:STANDARD
BEGIN:STANDARD
DTSTART:20261025T020000
RDATE:20270328T030000
TZOFFSETFROM:+0200
TZOFFSETTO:+0100
TZNAME:Europe/Berlin CET
END:STANDARD
BEGIN:STANDARD
DTSTART:20271031T020000
RDATE:20280326T030000
TZOFFSETFROM:+0200
TZOFFSETTO:+0100
TZNAME:Europe/Berlin CET
END:STANDARD
BEGIN:STANDARD
DTSTART:20281029T020000
RDATE:20290325T030000
TZOFFSETFROM:+0200
TZOFFSETTO:+0100
TZNAME:Europe/Berlin CET
END:STANDARD
BEGIN:STANDARD
DTSTART:20291028T020000
RDATE:20300331T030000
TZOFFSETFROM:+0200
TZOFFSETTO:+0100
TZNAME:Europe/Berlin CET
END:STANDARD
BEGIN:STANDARD
DTSTART:20301027T020000
RDATE:20310330T030000
TZOFFSETFROM:+0200
TZOFFSETTO:+0100
TZNAME:Europe/Berlin CET
END:STANDARD
BEGIN:STANDARD
DTSTART:20311026T020000
RDATE:20320328T030000
TZOFFSETFROM:+0200
TZOFFSETTO:+0100
TZNAME:Europe/Berlin CET
END:STANDARD
BEGIN:DAYLIGHT
DTSTART:20240331T030000
RDATE:20241027T020000
TZOFFSETFROM:+0100
TZOFFSETTO:+0200
TZNAME:Europe/Berlin CEST
END:DAYLIGHT
BEGIN:DAYLIGHT
DTSTART:20250330T030000
RDATE:20251026T020000
TZOFFSETFROM:+0100
TZOFFSETTO:+0200
TZNAME:Europe/Berlin CEST
END:DAYLIGHT
BEGIN:DAYLIGHT
DTSTART:20260329T030000
RDATE:20261025T020000
TZOFFSETFROM:+0100
TZOFFSETTO:+0200
TZNAME:Europe/Berlin CEST
END:DAYLIGHT
BEGIN:DAYLIGHT
DTSTART:20270328T030000
RDATE:20271031T020000
TZOFFSETFROM:+0100
TZOFFSETTO:+0200
TZNAME:Europe/Berlin CEST
END:DAYLIGHT
BEGIN:DAYLIGHT
DTSTART:20280326T030000
RDATE:20281029T020000
TZOFFSETFROM:+0100
TZOFFSETTO:+0200
TZNAME:Europe/Berlin CEST
END:DAYLIGHT
BEGIN:DAYLIGHT
DTSTART:20290325T030000
RDATE:20291028T020000
TZOFFSETFROM:+0100
TZOFFSETTO:+0200
TZNAME:Europe/Berlin CEST
END:DAYLIGHT
BEGIN:DAYLIGHT
DTSTART:20300331T030000
RDATE:20301027T020000
TZOFFSETFROM:+0100
TZOFFSETTO:+0200
TZNAME:Europe/Berlin CEST
END:DAYLIGHT
BEGIN:DAYLIGHT
DTSTART:20310330T030000
RDATE:20311026T020000
TZOFFSETFROM:+0100
TZOFFSETTO:+0200
TZNAME:Europe/Berlin CEST
END:DAYLIGHT
END:VTIMEZONE
BEGIN:VEVENT
UID:c6bd212d8f5b08d64fb79c1514f913c8
CATEGORIES:Allgemein
CREATED:20250207T170049
SUMMARY:Siegerehrung Jugendpreisschießen
DESCRIPTION:Siegerehrung und Preisverleihung Jugendpreisschießen 2024 \nProklamation de
 s Gau-Jugendkönigs \nLiebe Jungschützinnen und Jungschützen, ich darf Euch 
 recht herzlich einladen \nzur Siegerehrung und Preisverleihung Jugendpreiss
 chießen 2024 am 26.02.2025 \nin Ried, Gasthaus Doll um 18.30 Uhr Ausgegeben
  werden \nPokale für die Meistbeteiligung und die jeweils drei erstplatzier
 ten Einzelschützen sowie Sachpreise. \nVerlost werden außerdem ein Jugendge
 wehr sowie Geldpreise für die Jugendkasse der Vereine. \n \nMit freundliche
 m Schützengruß \nBeate Ruppert\n
X-ALT-DESC;FMTTYPE=text/html:<p><span style="font-size: 14pt;">Siegerehrung und Preisverleihung Jugendpr
 eisschießen 2024 </span></p><p><span style="font-size: 14pt;">Proklamation 
 des Gau-Jugendkönigs </span></p><p><span style="font-size: 12pt;">Liebe Jun
 gschützinnen und Jungschützen, ich darf Euch recht herzlich einladen </span
 ></p><p><span style="font-size: 12pt;">zur Siegerehrung und Preisverleihung
  Jugendpreisschießen 2024 am <strong>26.02.2025 </strong></span></p><p><spa
 n style="font-size: 12pt;">in Ried, Gasthaus Doll um <strong>18.30 Uhr</str
 ong> Ausgegeben werden </span></p><p><span style="font-size: 12pt;">Pokale 
 für die Meistbeteiligung und die jeweils drei erstplatzierten Einzelschütze
 n sowie Sachpreise. </span></p><p><span style="font-size: 12pt;">Verlost we
 rden außerdem ein Jugendgewehr sowie Geldpreise für die Jugendkasse der Ver
 eine. </span></p><p>&nbsp;</p><p><span style="font-size: 12pt;">Mit freundl
 ichem Schützengruß </span></p><p><span style="font-size: 12pt;">Beate Ruppe
 rt</span></p>
DTSTAMP:20260423T093304
DTSTART;TZID=Europe/Berlin:20250226T183000
DTEND;TZID=Europe/Berlin:20250226T200000
SEQUENCE:0
TRANSP:OPAQUE
END:VEVENT
END:VCALENDAR