BEGIN:VCALENDAR
VERSION:2.0
PRODID:-//jEvents 2.0 for Joomla//EN
CALSCALE:GREGORIAN
METHOD:PUBLISH
BEGIN:VTIMEZONE
TZID:Europe/Berlin
BEGIN:STANDARD
DTSTART:20230123T183000
RDATE:20230326T030000
TZOFFSETFROM:+0200
TZOFFSETTO:+0100
TZNAME:Europe/Berlin CET
END:STANDARD
BEGIN:STANDARD
DTSTART:20231029T020000
RDATE:20240331T030000
TZOFFSETFROM:+0200
TZOFFSETTO:+0100
TZNAME:Europe/Berlin CET
END:STANDARD
BEGIN:STANDARD
DTSTART:20241027T020000
RDATE:20250330T030000
TZOFFSETFROM:+0200
TZOFFSETTO:+0100
TZNAME:Europe/Berlin CET
END:STANDARD
BEGIN:STANDARD
DTSTART:20251026T020000
RDATE:20260329T030000
TZOFFSETFROM:+0200
TZOFFSETTO:+0100
TZNAME:Europe/Berlin CET
END:STANDARD
BEGIN:STANDARD
DTSTART:20261025T020000
RDATE:20270328T030000
TZOFFSETFROM:+0200
TZOFFSETTO:+0100
TZNAME:Europe/Berlin CET
END:STANDARD
BEGIN:STANDARD
DTSTART:20271031T020000
RDATE:20280326T030000
TZOFFSETFROM:+0200
TZOFFSETTO:+0100
TZNAME:Europe/Berlin CET
END:STANDARD
BEGIN:STANDARD
DTSTART:20281029T020000
RDATE:20290325T030000
TZOFFSETFROM:+0200
TZOFFSETTO:+0100
TZNAME:Europe/Berlin CET
END:STANDARD
BEGIN:STANDARD
DTSTART:20291028T020000
RDATE:20300331T030000
TZOFFSETFROM:+0200
TZOFFSETTO:+0100
TZNAME:Europe/Berlin CET
END:STANDARD
BEGIN:STANDARD
DTSTART:20301027T020000
RDATE:20310330T030000
TZOFFSETFROM:+0200
TZOFFSETTO:+0100
TZNAME:Europe/Berlin CET
END:STANDARD
BEGIN:STANDARD
DTSTART:20311026T020000
RDATE:20320328T030000
TZOFFSETFROM:+0200
TZOFFSETTO:+0100
TZNAME:Europe/Berlin CET
END:STANDARD
BEGIN:DAYLIGHT
DTSTART:20230326T030000
RDATE:20231029T020000
TZOFFSETFROM:+0100
TZOFFSETTO:+0200
TZNAME:Europe/Berlin CEST
END:DAYLIGHT
BEGIN:DAYLIGHT
DTSTART:20240331T030000
RDATE:20241027T020000
TZOFFSETFROM:+0100
TZOFFSETTO:+0200
TZNAME:Europe/Berlin CEST
END:DAYLIGHT
BEGIN:DAYLIGHT
DTSTART:20250330T030000
RDATE:20251026T020000
TZOFFSETFROM:+0100
TZOFFSETTO:+0200
TZNAME:Europe/Berlin CEST
END:DAYLIGHT
BEGIN:DAYLIGHT
DTSTART:20260329T030000
RDATE:20261025T020000
TZOFFSETFROM:+0100
TZOFFSETTO:+0200
TZNAME:Europe/Berlin CEST
END:DAYLIGHT
BEGIN:DAYLIGHT
DTSTART:20270328T030000
RDATE:20271031T020000
TZOFFSETFROM:+0100
TZOFFSETTO:+0200
TZNAME:Europe/Berlin CEST
END:DAYLIGHT
BEGIN:DAYLIGHT
DTSTART:20280326T030000
RDATE:20281029T020000
TZOFFSETFROM:+0100
TZOFFSETTO:+0200
TZNAME:Europe/Berlin CEST
END:DAYLIGHT
BEGIN:DAYLIGHT
DTSTART:20290325T030000
RDATE:20291028T020000
TZOFFSETFROM:+0100
TZOFFSETTO:+0200
TZNAME:Europe/Berlin CEST
END:DAYLIGHT
BEGIN:DAYLIGHT
DTSTART:20300331T030000
RDATE:20301027T020000
TZOFFSETFROM:+0100
TZOFFSETTO:+0200
TZNAME:Europe/Berlin CEST
END:DAYLIGHT
BEGIN:DAYLIGHT
DTSTART:20310330T030000
RDATE:20311026T020000
TZOFFSETFROM:+0100
TZOFFSETTO:+0200
TZNAME:Europe/Berlin CEST
END:DAYLIGHT
END:VTIMEZONE
BEGIN:VEVENT
UID:f0795610babb27cd15f0309f1e9cbe97
CATEGORIES:Allgemein
CREATED:20231230T151420
SUMMARY:Jahreshauptversammlung Gau Dachau Gasthaus Doll in Ried
DESCRIPTION:An alle Schützenmeisterinnen, Schützenmeister und Mitglieder der Gauvorstan
 dschaft.\nLiebe Schützinnen und Schützen,\nder Schützengau Dachau hält am\n
 Mittwoch, den 24. Januar 2024 um 1830 Uhr im Gasthaus Doll in Ried\nseine J
 ahreshauptversammlung ab. \nDazu laden wir Euch recht herzlich ein.\nTageso
 rdnung:\n\n - Eröffnung durch die Böllergruppe Gau Dachau\n - Begrüßung dur
 ch den 2. Gauschützenmeister\n - Gedenken der verstorbenen Vereinsmitgliede
 r\n - Bericht des 1. Gauschützenmeisters\n - Grußworte Ehrengäste\n - Beric
 ht des Gausportleiters\n - Bericht des Pistolenreferenten\n - Bericht der J
 ugendleiterin\n - Bericht des Rundenwettkampfleiters\n - Bericht des Bogenr
 eferenten\n - Bericht der Damenleiterin\n - Bericht des Gauschatzmeisters\n
  - Entlastung der Gauvorstandschaft durch die Kassenprüfer\n - Wahl der Del
 egierten zur Bezirksversammlung (27/28.April in Mühldorf am Inn)\n - Ehrung
 en verdienter Schützen\n - Anträge, Wünsche, VerschiedenesAnträge zur Tages
 ordnung sind bis spätestens 6. Januar 2024 (Datum des Poststempels oder Dat
 um der E-Mail) schriftlich an 1. Gauschützenmeister Alfred Reiner zu richte
 n.\nMit freundlichem Schützengruß\nAlfred Reiner\nGauschützenmeister\n
X-ALT-DESC;FMTTYPE=text/html:<p>An alle Schützenmeisterinnen, Schützenmeister und Mitglieder der Gauvors
 tandschaft.</p><p>Liebe Schützinnen und Schützen,</p><p>der Schützengau Dac
 hau hält am</p><p><span style="font-size: 14pt;">Mittwoch, den <strong>24. 
 Januar 2024 um </strong><strong>18<sup>30</sup></strong><strong> Uhr</stron
 g> im <strong>Gasthaus Doll in Ried</strong></span></p><p>seine Jahreshaupt
 versammlung ab.<em>&nbsp;</em></p><p>Dazu laden wir Euch recht herzlich ein
 .</p><p><strong>Tagesordnung:</strong></p><ol><li>Eröffnung durch die Bölle
 rgruppe Gau Dachau</li><li>Begrüßung durch den 2. Gauschützenmeister</li><l
 i>Gedenken der verstorbenen Vereinsmitglieder</li><li>Bericht des 1. Gausch
 ützenmeisters</li><li>Grußworte Ehrengäste</li><li>Bericht des Gausportleit
 ers</li><li>Bericht des Pistolenreferenten</li><li>Bericht der Jugendleiter
 in</li><li>Bericht des Rundenwettkampfleiters</li><li>Bericht des Bogenrefe
 renten</li><li>Bericht der Damenleiterin</li><li>Bericht des Gauschatzmeist
 ers</li><li>Entlastung der Gauvorstandschaft durch die Kassenprüfer</li><li
 >Wahl der Delegierten zur Bezirksversammlung (27/28.April in Mühldorf am In
 n)</li><li>Ehrungen verdienter Schützen</li><li>Anträge, Wünsche, Verschied
 enes</li></ol><p>Anträge zur Tagesordnung sind bis spätestens 6. Januar 202
 4 (Datum des Poststempels oder Datum der E-Mail) schriftlich an 1. Gauschüt
 zenmeister Alfred Reiner zu richten.</p><p>Mit freundlichem Schützengruß</p
 ><p><strong>Alfred Reiner</strong></p><p>Gauschützenmeister</p>
DTSTAMP:20260423T120920
DTSTART;TZID=Europe/Berlin:20240124T183000
SEQUENCE:0
TRANSP:OPAQUE
END:VEVENT
END:VCALENDAR